BEGIN:VCALENDAR
VERSION:2.0
PRODID:-//198.71.233.109//NONSGML kigkonsult.se iCalcreator 2.26.9//
CALSCALE:GREGORIAN
METHOD:PUBLISH
X-WR-CALNAME:Clarence Fitzroy Bryant College
X-WR-CALDESC:Always Striving for Excellence!
X-FROM-URL:https://cfbc.edu.kn
X-WR-TIMEZONE:America/Grenada
BEGIN:VTIMEZONE
TZID:America/Grenada
X-LIC-LOCATION:America/Grenada
BEGIN:STANDARD
DTSTART:19120302T000000
TZOFFSETFROM:-040604
TZOFFSETTO:-0400
TZNAME:AST
END:STANDARD
END:VTIMEZONE
BEGIN:VEVENT
UID:ai1ec-10659@cfbc.edu.kn
DTSTAMP:20210819T075734Z
CATEGORIES:
CONTACT:
DESCRIPTION:St. Kitts & Nevis Independence Expressions and Celebrations\n 
DTSTART;VALUE=DATE:20210913
DTEND;VALUE=DATE:20210918
SEQUENCE:0
SUMMARY:Week of Patriotic Reflections
URL:https://cfbc.edu.kn/event/week-of-patriotic-reflections/
X-COST-TYPE:free
X-ALT-DESC;FMTTYPE=text/html:<!DOCTYPE HTML PUBLIC '-//W3C//DTD HTML 3.2//E
 N'>\\n<HTML>\\n<HEAD>\\n<TITLE></TITLE>\\n</HEAD>\\n<BODY><p>St. Kitts & N
 evis Independence Expressions and Celebrations</p>\n<p> </p>\n</BODY></HTM
 L>
END:VEVENT
END:VCALENDAR
