BEGIN:VCALENDAR
VERSION:2.0
PRODID:-//198.71.233.109//NONSGML kigkonsult.se iCalcreator 2.26.9//
CALSCALE:GREGORIAN
METHOD:PUBLISH
X-WR-CALNAME:Clarence Fitzroy Bryant College
X-WR-CALDESC:Always Striving for Excellence!
X-FROM-URL:https://cfbc.edu.kn
X-WR-TIMEZONE:America/Grenada
BEGIN:VTIMEZONE
TZID:America/Grenada
X-LIC-LOCATION:America/Grenada
BEGIN:STANDARD
DTSTART:19120302T000000
TZOFFSETFROM:-040604
TZOFFSETTO:-0400
TZNAME:AST
END:STANDARD
END:VTIMEZONE
BEGIN:VEVENT
UID:ai1ec-10671@cfbc.edu.kn
DTSTAMP:20210819T080758Z
CATEGORIES;LANGUAGE=en-US:Events
CONTACT:
DESCRIPTION:(4 Part Series) Introduction to Research Skills: Information Li
 teracy\n \n 
DTSTART;VALUE=DATE:20210921
DTEND;VALUE=DATE:20210922
SEQUENCE:0
SUMMARY:Library Workshops/Webinars
URL:https://cfbc.edu.kn/event/library-workshops-webinars-3/
X-COST-TYPE:free
X-ALT-DESC;FMTTYPE=text/html:<!DOCTYPE HTML PUBLIC '-//W3C//DTD HTML 3.2//E
 N'>\\n<HTML>\\n<HEAD>\\n<TITLE></TITLE>\\n</HEAD>\\n<BODY><p>(4 Part Serie
 s) Introduction to Research Skills: Information Literacy</p>\n<p> </p>\n<p
 > </p>\n</BODY></HTML>
END:VEVENT
END:VCALENDAR
