BEGIN:VCALENDAR
VERSION:2.0
PRODID:-//198.71.233.109//NONSGML kigkonsult.se iCalcreator 2.26.9//
CALSCALE:GREGORIAN
METHOD:PUBLISH
X-FROM-URL:https://cfbc.edu.kn
X-WR-TIMEZONE:America/Grenada
BEGIN:VTIMEZONE
TZID:America/Grenada
X-LIC-LOCATION:America/Grenada
BEGIN:STANDARD
DTSTART:19120302T000000
TZOFFSETFROM:-040604
TZOFFSETTO:-0400
TZNAME:AST
END:STANDARD
END:VTIMEZONE
BEGIN:VEVENT
UID:ai1ec-10676@cfbc.edu.kn
DTSTAMP:20210916T041117Z
CATEGORIES;LANGUAGE=en-US:Forums\,Workshops
CONTACT:
DESCRIPTION:(4 Part Series) Introduction to Research Skills: Information Li
 teracy\n 
DTSTART;VALUE=DATE:20210728
DTEND;VALUE=DATE:20210729
SEQUENCE:0
SUMMARY:Library Workshops/Webinars
URL:https://cfbc.edu.kn/event/library-workshops-webinars-4/
X-COST-TYPE:free
X-ALT-DESC;FMTTYPE=text/html:<!DOCTYPE HTML PUBLIC '-//W3C//DTD HTML 3.2//E
 N'>\\n<HTML>\\n<HEAD>\\n<TITLE></TITLE>\\n</HEAD>\\n<BODY><p>(4 Part Serie
 s) Introduction to Research Skills: Information Literacy</p>\n<p> </p>\n</
 BODY></HTML>
END:VEVENT
BEGIN:VEVENT
UID:ai1ec-10678@cfbc.edu.kn
DTSTAMP:20210916T041117Z
CATEGORIES;LANGUAGE=en-US:General Events\,Orientation
CONTACT:
DESCRIPTION:Orientation for  Incoming Students Wednesday
DTSTART;VALUE=DATE:20210929
DTEND;VALUE=DATE:20211001
SEQUENCE:0
SUMMARY:ACE Orientation
URL:https://cfbc.edu.kn/event/ace-orientation/
X-COST-TYPE:free
X-ALT-DESC;FMTTYPE=text/html:<!DOCTYPE HTML PUBLIC '-//W3C//DTD HTML 3.2//E
 N'>\\n<HTML>\\n<HEAD>\\n<TITLE></TITLE>\\n</HEAD>\\n<BODY><p>Orientation f
 or  Incoming Students Wednesday</p>\n</BODY></HTML>
END:VEVENT
BEGIN:VEVENT
UID:ai1ec-10684@cfbc.edu.kn
DTSTAMP:20210916T041117Z
CATEGORIES;LANGUAGE=en-US:General Events
CONTACT:
DESCRIPTION:
DTSTART;VALUE=DATE:20211005
DTEND;VALUE=DATE:20211006
SEQUENCE:0
SUMMARY:World Teacher’s Day
URL:https://cfbc.edu.kn/event/world-teachers-day/
X-COST-TYPE:free
END:VEVENT
BEGIN:VEVENT
UID:ai1ec-10685@cfbc.edu.kn
DTSTAMP:20210916T041117Z
CATEGORIES;LANGUAGE=en-US:Forums\,Workshops
CONTACT:
DESCRIPTION:(4 Part Series) Understanding and Avoiding Plagiarism\n \n 
DTSTART;VALUE=DATE:20211006
DTEND;VALUE=DATE:20211007
SEQUENCE:0
SUMMARY:Library Workshops/Webinars
URL:https://cfbc.edu.kn/event/library-workshops-webinars-5/
X-COST-TYPE:free
X-ALT-DESC;FMTTYPE=text/html:<!DOCTYPE HTML PUBLIC '-//W3C//DTD HTML 3.2//E
 N'>\\n<HTML>\\n<HEAD>\\n<TITLE></TITLE>\\n</HEAD>\\n<BODY><p>(4 Part Serie
 s) Understanding and Avoiding Plagiarism</p>\n<p> </p>\n<p> </p>\n</BODY><
 /HTML>
END:VEVENT
BEGIN:VEVENT
UID:ai1ec-9933@cfbc.edu.kn
DTSTAMP:20210916T041117Z
CATEGORIES;LANGUAGE=en-US:General Events
CONTACT:
DESCRIPTION:
DTSTART;TZID=America/Grenada:20200101T083000
DTEND;TZID=America/Grenada:20200331T160000
SEQUENCE:0
SUMMARY:CFBC Sports Club – Sports Period
URL:https://cfbc.edu.kn/event/cfbc-sports-club-sports-period/
X-COST-TYPE:free
END:VEVENT
BEGIN:VEVENT
UID:ai1ec-10677@cfbc.edu.kn
DTSTAMP:20210916T041117Z
CATEGORIES;LANGUAGE=en-US:Luncheons
CONTACT:
DESCRIPTION:(Annual Day of Giving to CFBC Library)\n 
DTSTART;TZID=America/Grenada:20210828T120000
DTEND;TZID=America/Grenada:20210828T150000
SEQUENCE:0
SUMMARY:Leave a Legacy Launch
URL:https://cfbc.edu.kn/event/leave-a-legacy-launch/
X-COST-TYPE:free
X-ALT-DESC;FMTTYPE=text/html:<!DOCTYPE HTML PUBLIC '-//W3C//DTD HTML 3.2//E
 N'>\\n<HTML>\\n<HEAD>\\n<TITLE></TITLE>\\n</HEAD>\\n<BODY><p>(Annual Day o
 f Giving to CFBC Library)</p>\n<p> </p>\n</BODY></HTML>
END:VEVENT
BEGIN:VEVENT
UID:ai1ec-10673@cfbc.edu.kn
DTSTAMP:20210916T041117Z
CATEGORIES;LANGUAGE=en-US:Luncheons
CONTACT:
DESCRIPTION: \n 
DTSTART;TZID=America/Grenada:20210924T120000
DTEND;TZID=America/Grenada:20210924T150000
LOCATION:Main Campus @ Burdon Street\, Basseterre
SEQUENCE:0
SUMMARY:Culinary and Hospitality Theme Lunch
URL:https://cfbc.edu.kn/event/culinary-and-hospitality-theme-lunch/
X-COST-TYPE:free
X-ALT-DESC;FMTTYPE=text/html:<!DOCTYPE HTML PUBLIC '-//W3C//DTD HTML 3.2//E
 N'>\\n<HTML>\\n<HEAD>\\n<TITLE></TITLE>\\n</HEAD>\\n<BODY><p> </p>\n<p> </
 p>\n</BODY></HTML>
END:VEVENT
BEGIN:VEVENT
UID:ai1ec-10679@cfbc.edu.kn
DTSTAMP:20210916T041117Z
CATEGORIES;LANGUAGE=en-US:General Events
CONTACT:
DESCRIPTION:
DTSTART;TZID=America/Grenada:20211001T100000
SEQUENCE:0
SUMMARY:Capping and Striping Ceremony
URL:https://cfbc.edu.kn/event/capping-and-striping-ceremony/
X-COST-TYPE:free
X-INSTANT-EVENT:1
END:VEVENT
BEGIN:VEVENT
UID:ai1ec-10681@cfbc.edu.kn
DTSTAMP:20210916T041117Z
CATEGORIES;LANGUAGE=en-US:Luncheons
CONTACT:
DESCRIPTION: \n 
DTSTART;TZID=America/Grenada:20211001T120000
SEQUENCE:0
SUMMARY:Culinary and Hospitality Theme Lunch
URL:https://cfbc.edu.kn/event/culinary-and-hospitality-theme-lunch-2/
X-COST-TYPE:free
X-ALT-DESC;FMTTYPE=text/html:<!DOCTYPE HTML PUBLIC '-//W3C//DTD HTML 3.2//E
 N'>\\n<HTML>\\n<HEAD>\\n<TITLE></TITLE>\\n</HEAD>\\n<BODY><p> </p>\n<p> </
 p>\n</BODY></HTML>
X-INSTANT-EVENT:1
END:VEVENT
BEGIN:VEVENT
UID:ai1ec-10683@cfbc.edu.kn
DTSTAMP:20210916T041117Z
CATEGORIES;LANGUAGE=en-US:Forums
CONTACT:
DESCRIPTION: \n 
DTSTART;TZID=America/Grenada:20211004T090000
SEQUENCE:0
SUMMARY:Focus on the Psychology of Embracing Novelty and Adapting to Change
URL:https://cfbc.edu.kn/event/focus-on-the-psychology-of-embracing-novelty-
 and-adapting-to-change/
X-COST-TYPE:free
X-ALT-DESC;FMTTYPE=text/html:<!DOCTYPE HTML PUBLIC '-//W3C//DTD HTML 3.2//E
 N'>\\n<HTML>\\n<HEAD>\\n<TITLE></TITLE>\\n</HEAD>\\n<BODY><p> </p>\n<p> </
 p>\n</BODY></HTML>
X-INSTANT-EVENT:1
END:VEVENT
BEGIN:VEVENT
UID:ai1ec-10686@cfbc.edu.kn
DTSTAMP:20210916T041117Z
CATEGORIES;LANGUAGE=en-US:Examinations
CONTACT:
DESCRIPTION:
DTSTART;TZID=America/Grenada:20211007T090000
SEQUENCE:0
SUMMARY:Regional Examination for Nurse Registration (RENR)
URL:https://cfbc.edu.kn/event/regional-examination-for-nurse-registration-r
 enr/
X-COST-TYPE:free
X-INSTANT-EVENT:1
END:VEVENT
BEGIN:VEVENT
UID:ai1ec-10687@cfbc.edu.kn
DTSTAMP:20210916T041117Z
CATEGORIES;LANGUAGE=en-US:Luncheons
CONTACT:
DESCRIPTION:
DTSTART;TZID=America/Grenada:20211008T120000
DTEND;TZID=America/Grenada:20211008T150000
SEQUENCE:0
SUMMARY:Culinary and Hospitality Theme Lunch
URL:https://cfbc.edu.kn/event/culinary-and-hospitality-theme-lunch-3/
X-COST-TYPE:free
END:VEVENT
END:VCALENDAR
